BEGIN:VCALENDAR
VERSION:2.0
PRODID:-//eventon.com NONSGML v1.0//EN
CALSCALE:GREGORIAN
METHOD:PUBLISH
BEGIN:VEVENT
UID:69ebb7e8de4a6
DTSTAMP:20260424T183520Z
DTSTART:20260427T160000Z
DTEND:20260427T173000Z
LOCATION:Senior Citizens\,  Inc. 3025 Bull St.
SUMMARY:Learning Circle: Building a Fundraising Engine
DESCRIPTION:Building a Fundraising Engine: Sustainable Revenue Systems  Da
 te: Monday\,  April 27\,  2026 Time: 12:00 PM – 1:30 PM Location: Seni
 or Citizens\,  Inc.\,  3025 Bull St\,  Savannah\,  GA 31405 Facilitator: Re
 becca Hurron\,  Sul Mare Consulting / Director\,  Resource Development Lea
 rning Strategy &amp; Instructional Design at United Way Worldwide Registrat
 ion: Pre-registration required due to space limitations. [..]\nhttps://uwc
 e.org/event/learning-circle-building-a-fundraising-engine/
URL:https://uwce.org/event/learning-circle-building-a-fundraising-engine/
END:VEVENT
END:VCALENDAR