BEGIN:VCALENDAR
VERSION:2.0
PRODID:-//eventon.com NONSGML v1.0//EN
CALSCALE:GREGORIAN
METHOD:PUBLISH
BEGIN:VEVENT
UID:69ebcd9b8a7d6
DTSTAMP:20260424T200755Z
DTSTART:20260528T130000Z
DTEND:20260528T143000Z
LOCATION:Goodwill Southeast Georgia 7220 Sallie Mood Dr.
SUMMARY:Learning Circle: The Balanced Board
DESCRIPTION:The Balanced Board: Clear &amp; Meaningful Service Date: Thurs
 day\,  May 28\,  2026 Time: 9:00 AM – 10:30 AM Location: Goodwill South
 east Georgia\,  7220 Sallie Mood Dr\,  Savannah\,  GA 31406 Audience: Exec
 utive Directors\,  board members\,  and governance committee leaders Facili
 tator: Aileen Gabbey\,  Productive Nonprofits Registration: Pre-registratio
 n required due to space limitations.  https://app.smartsheet.com/b/form/01
 9cdd559066752699b8784f6f6a9271 Description: Improve organizational[..]\nhtt
 ps://uwce.org/event/learning-circle-the-balanced-board/
URL:https://uwce.org/event/learning-circle-the-balanced-board/
END:VEVENT
END:VCALENDAR