BEGIN:VCALENDAR
VERSION:2.0
PRODID:-//eventon.com NONSGML v1.0//EN
CALSCALE:GREGORIAN
METHOD:PUBLISH
BEGIN:VEVENT
UID:69ebb7e8db8f3
DTSTAMP:20260424T183520Z
DTSTART:20260617T130000Z
DTEND:20260617T143000Z
LOCATION:
SUMMARY:Learning Circle: Generative AI for Small Nonprofits
DESCRIPTION:From Curiosity to Clarity: Generative AI for Small Nonprofits D
 ate: Wednesday\,  June 17\,  2026 Time: 9:00 AM – 10:30 AM Location: Virt
 ual only via Zoom Facilitators: Lindsey Mott &amp; Timothy Hafner\,  United
  Way of Broome County Audience: Operations staff\,  Program managers\,  and
  Executive leadership Registration: Pre-registration required due to space[
 ..]\nhttps://uwce.org/event/learning-circle-generative-ai-for-small-nonprof
 its/
URL:https://uwce.org/event/learning-circle-generative-ai-for-small-nonprofits/
END:VEVENT
END:VCALENDAR