BEGIN:VCALENDAR
VERSION:2.0
PRODID:-//eventon.com NONSGML v1.0//EN
CALSCALE:GREGORIAN
METHOD:PUBLISH
BEGIN:VEVENT
UID:69ebb7a91d943
DTSTAMP:20260424T183417Z
DTSTART:20260811T130000Z
DTEND:20260811T153000Z
LOCATION:JA Colonial Group Discovery Center of Savannah 11935 Abercorn St.
SUMMARY:Learning Circle: Advocacy Strategies for Nonprofit Leaders
DESCRIPTION:Influence in Action: Advocacy Strategies for Nonprofit Leaders 
 Build nonprofit capacity to engage public policy ethically and effectively 
 within legal guidelines. Date: Tuesday\,  August 11 Time: 9:30 AM-11:30 AM 
 Location: JA Colonial Group Discovery Center of Savannah 11935 Abercorn St\
 ,  Savannah\,  Georgia 31419 Facilitator: Judy Fitzgerald\,  MSW\,  Executi
 ve Director\,  Voices[..]\nhttps://uwce.org/event/learning-circle-advocacy-
 strategies-for-nonprofit-leaders/
URL:https://uwce.org/event/learning-circle-advocacy-strategies-for-nonprofit-leaders/
END:VEVENT
END:VCALENDAR