BEGIN:VCALENDAR
VERSION:2.0
PRODID:-//eventon.com NONSGML v1.0//EN
CALSCALE:GREGORIAN
METHOD:PUBLISH
BEGIN:VEVENT
UID:69ebb7aee2bc3
DTSTAMP:20260424T183422Z
DTSTART:20260929T160000Z
DTEND:20260929T180000Z
LOCATION:Hospice Savannah - Demere Center 6000 Business Center Dr.
SUMMARY:Learning Circle: Evaluation Strategies for Nonprofits
DESCRIPTION:Impact with Intention: Evaluation Strategies for Nonprofits Bui
 ld nonprofit capacity to engage public policy ethically and effectively wit
 hin legal guidelines. Date: Tuesday\,  September 29\,  2026 Time: 12:00 pm 
 &#8211; 2:00 pm Facilitator: Dr. Erika Tate\,  Bluknowledge LLC Location: H
 ospice Savannah &#8211; Demere Center &#8211; Education Room 6000 Business 
 Center Dr\, [..]\nhttps://uwce.org/event/learning-circle-evaluation-strateg
 ies-for-nonprofits/
URL:https://uwce.org/event/learning-circle-evaluation-strategies-for-nonprofits/
END:VEVENT
END:VCALENDAR