BEGIN:VCALENDAR
VERSION:2.0
PRODID:-//eventon.com NONSGML v1.0//EN
CALSCALE:GREGORIAN
METHOD:PUBLISH
BEGIN:VEVENT
UID:69ebcdc39a59e
DTSTAMP:20260424T200835Z
DTSTART:20261009T130000Z
DTEND:20261009T143000Z
LOCATION:America's Second Harvest 1380 Chatham Parkway
SUMMARY:Learning Circle: Leadership in Times of Burnout and Change
DESCRIPTION:Sustaining the Mission by Supporting the People: Leadership in 
 Times of Burnout and Change Date: Friday\,  October 9\,  2026 Time: 9:00 AM
  – 10:30 AM (Refreshments served from 8:30 AM-9:00 AM) Location: America&
 #8217;s Second Harvest\, 1380 Chatham Parkway\,  Savannah\,  GA 31405 Facil
 itator: Gwendolyn A. Martin\,  Dr. Gwen’s Counselor Cafe LLC. Audience:[.
 .]\nhttps://uwce.org/event/learning-circle/
URL:https://uwce.org/event/learning-circle/
END:VEVENT
END:VCALENDAR